Workbook

Sheet CALCUL des COUPS RENDUS
A3: CALCUL DES COUPS RENDUS
A6: GOLF de: | B6: ESTEREL | E6: PAR: | F6: =IF(B6=DONNEES!K2,68,IF(B6=DONNEES!K3,72,IF(B6=DONNEES!K4,72,IF(B6=DONNEES!K5,68,IF(B6=DONNEES!K6,71,IF(B6=DONNEES!K7,72,IF(B6=DONNEES!K8,72,IF(B6=DONNEES!K9,72,IF(B6=DONNEES!K10,69,IF(B6=DONNEES!K11,72,IF(B6=DONNEES!K12,67,IF(B6=DONNEES!K13,71,IF(B6=DONNEES!K14,71,IF(B6=DONNEES!K15,73,IF(B6=DONNEES!K16,71,IF(B6=DONNEES!K17,70)))))))))))))))) -> 70 | G6: Mode d'emplois:
G7: 1- Renseigner le Golf avec le menu déroulant
D8: Slope | E8: SSS | G8: 2- Renseigner la catégorie (Homme/Femme)
B9: REFERENCES PARCOURS | C9: Homme | D9: =IF(B6=DONNEES!K2,DONNEES!D4,IF(B6=DONNEES!K3,DONNEES!D15,IF(B6=DONNEES!K4,DONNEES!D26,IF(B6=DONNEES!K5,DONNEES!D37,IF(B6=DONNEES!K6,DONNEES!D48,IF(B6=DONNEES!K7,DONNEES!D59,IF(B6=DONNEES!K8,DONNEES!D70,IF(B6=DONNEES!K9,DONNEES!D81,IF(B6=DONNEES!K10,DONNEES!D92,IF(B6=DONNEES!K11,DONNEES!D103,IF(B6=DONNEES!K12,DONNEES!D114,IF(B6=DONNEES!K13,DONNEES!D125,IF(B6=DONNEES!K14,DONNEES!D136,IF(B6=DONNEES!K15,DONNEES!D147,IF(B6=DONNEES!K16,DONNEES!D158,IF(B6=DONNEES!K17,DONNEES!D169)))))))))))))))) -> 126 | E9: =IF(B6=DONNEES!K2,DONNEES!E4,IF(B6=DONNEES!K3,DONNEES!E15,IF(B6=DONNEES!K4,DONNEES!E26,IF(B6=DONNEES!K5,DONNEES!E37,IF(B6=DONNEES!K6,DONNEES!E48,IF(B6=DONNEES!K7,DONNEES!E59,IF(B6=DONNEES!K8,DONNEES!E70,IF(B6=DONNEES!K9,DONNEES!E81,IF(B6=DONNEES!K10,DONNEES!E92,IF(B6=DONNEES!K11,DONNEES!E103,IF(B6=DONNEES!K12,DONNEES!E114,IF(B6=DONNEES!K13,DONNEES!E125,IF(B6=DONNEES!K14,DONNEES!E136,IF(B6=DONNEES!K15,DONNEES!E147,IF(B6=DONNEES!K16,DONNEES!E158,IF(B6=DONNEES!K17,DONNEES!E169)))))))))))))))) -> 68 | G9: avec le menu déroulant
C10: Femme | D10: =IF(B6=DONNEES!K2,DONNEES!D5,IF(B6=DONNEES!K3,DONNEES!D16,IF(B6=DONNEES!K4,DONNEES!D27,IF(B6=DONNEES!K5,DONNEES!D38,IF(B6=DONNEES!K6,DONNEES!D49,IF(B6=DONNEES!K7,DONNEES!D60,IF(B6=DONNEES!K8,DONNEES!D71,IF(B6=DONNEES!K9,DONNEES!D82,IF(B6=DONNEES!K10,DONNEES!D93,IF(B6=DONNEES!K11,DONNEES!D104,IF(B6=DONNEES!K12,DONNEES!D115,IF(B6=DONNEES!K13,DONNEES!D126,IF(B6=DONNEES!K14,DONNEES!D137,IF(B6=DONNEES!K15,DONNEES!D148,IF(B6=DONNEES!K16,DONNEES!D159,IF(B6=DONNEES!K17,DONNEES!D170)))))))))))))))) -> 121 | E10: =IF(B6=DONNEES!K2,DONNEES!E5,IF(B6=DONNEES!K3,DONNEES!E16,IF(B6=DONNEES!K4,DONNEES!E27,IF(B6=DONNEES!K5,DONNEES!E38,IF(B6=DONNEES!K6,DONNEES!E49,IF(B6=DONNEES!K7,DONNEES!E60,IF(B6=DONNEES!K8,DONNEES!E71,IF(B6=DONNEES!K9,DONNEES!E82,IF(B6=DONNEES!K10,DONNEES!E93,IF(B6=DONNEES!K11,DONNEES!E104,IF(B6=DONNEES!K12,DONNEES!E115,IF(B6=DONNEES!K13,DONNEES!E126,IF(B6=DONNEES!K14,DONNEES!E137,IF(B6=DONNEES!K15,DONNEES!E148,IF(B6=DONNEES!K16,DONNEES!E159,IF(B6=DONNEES!K17,DONNEES!E170)))))))))))))))) -> 67.6 | G10: 3- Mettre votre index
F12: Handicap de jeu… | H12: Coups rendus…
B13: Index | C13: Catégorie | D13: Slope | E13: SSS | G13: Arrondi à… | I13: Arrondi à …
A14: Joueur A | B14: 14.8 | C14: Homme | D14: =IF(C14=C9,D9,IF(C14=C10,D10)) -> 126 | E14: =IF(D14=D9,E9,IF(D14=D10,E10)) -> 68 | F14: =B14*(D14/113)+(E14-F6) -> 14.502655 | G14: =ROUND(F14,0) -> 15 | H14: =0.75*(G14-MIN(G14:G15)) -> 0 | I14: =H14 -> 0
A15: Joueur B | B15: 18.2 | C15: Homme | D15: =IF(C15=C9,D9,IF(C15=C10,D10)) -> 126 | E15: =IF(D15=D9,E9,IF(D15=D10,E10)) -> 68 | F15: =B15*(D15/113)+(E15-F6) -> 18.293805 | G15: =ROUND(F15,0) -> 18 | H15: =0.75*(G15-MIN(G14:G15)) -> 2.25 | I15: =ROUND(H15,0) -> 2

Sheet Feuil1

Sheet DONNEES
A1: GOLF DE VALGARDE PAR 68
K2: VALGARDE | M2: 68
D3: Slope | E3: SSS | K3: BARBAROUX | M3: 72
B4: REFERENCES PARCOURS | C4: Homme | D4: 120 | E4: 66.8 | K4: SAINTE BAUME | M4: 72
C5: Femme | D5: 117 | E5: 67.7 | K5: VALESCURE | M5: 68
K6: ROQUEBRUNE | M6: 71
F7: Handicap de jeu… | H7: Coups rendus… | K7: SAINTE MAXIME | M7: 72
B8: Index | C8: Catégorie | D8: Slope | E8: SSS | G8: Arrondi à… | I8: Arrondis à … | K8: SAINT ENDREOL | M8: 72
A9: Joueur A | B9: 12 | C9: Homme | D9: 120 | E9: 66.8 | F9: =B9*(D9/113)+(E9-68) -> 11.543363 | G9: =ROUND(F9,0) -> 12 | I9: =H9 -> 0 | K9: TERRE BLANCHE (RIOU) | M9: 72
A10: Joueur B | B10: 12.7 | C10: Femme | D10: 117 | E10: 67.7 | F10: =B10*(D10/113)+(E10-68) -> 12.849558 | G10: =ROUND(F10,0) -> 13 | H10: =0.75*(G10-G9) -> 0.75 | I10: =ROUND(H10,0) -> 1 | K10: BEAUVALLON | M10: 69
K11: CLAUX AMIC | M11: 72
A12: GOLF DE BARBAROUX PAR 72 | K12: BIOT | M12: 67
K13: BARBOSSI | M13: 71
D14: Slope | E14: SSS | K14: GRANDE BASTIDE | M14: 71
B15: REFERENCES PARCOURS | C15: Homme | D15: 138 | E15: 71.4 | K15: OPIO VALBONNE | M15: 73
C16: Femme | D16: 134 | E16: 71.5 | K16: OLD COURSE | M16: 71
K17: ESTEREL
F18: Handicap de jeu… | H18: Coups rendus…
B19: Index | C19: Catégorie | D19: Slope | E19: SSS | G19: Arrondi à… | I19: Arrondis à …
A20: Joueur A | B20: 4.4 | C20: Homme | D20: 138 | E20: 71.4 | F20: =B20*(D20/113)+(E20-72) -> 4.7734513 | G20: =ROUND(F20,0) -> 5 | I20: =H20 -> 0
A21: Joueur B | B21: 11.2 | C21: Femme | D21: 134 | E21: 71.5 | F21: =B21*(D21/113)+(E21-72) -> 12.781416 | G21: =ROUND(F21,0) -> 13 | H21: =0.75*(G21-G20) -> 6 | I21: =ROUND(H21,0) -> 6
A23: GOLF DE SAINTE BAUME PAR 72
D25: Slope | E25: SSS
B26: REFERENCES PARCOURS | C26: Homme | D26: 124 | E26: 70.8
C27: Femme | D27: 125 | E27: 71.5
F29: Handicap de jeu… | H29: Coups rendus…
B30: Index | C30: Catégorie | D30: Slope | E30: SSS | G30: Arrondi à… | I30: Arrondis à …
A31: Joueur A | B31: 4.4 | C31: Homme | D31: 124 | E31: 70.8 | F31: =B31*(D31/113)+(E31-72) -> 3.6283186 | G31: =ROUND(F31,0) -> 4 | I31: =H31 -> 0
A32: Joueur B | B32: 11.2 | C32: Femme | D32: 125 | E32: 71.5 | F32: =B32*(D32/113)+(E32-72) -> 11.889381 | G32: =ROUND(F32,0) -> 12 | H32: =0.75*(G32-G31) -> 6 | I32: =ROUND(H32,0) -> 6
A34: GOLF DE VALESCURE PAR 68
D36: Slope | E36: SSS
B37: REFERENCES PARCOURS | C37: Homme | D37: 131 | E37: 66.7
C38: Femme | D38: 129 | E38: 69.1
F40: Handicap de jeu… | H40: Coups rendus…
B41: Index | C41: Catégorie | D41: Slope | E41: SSS | G41: Arrondi à… | I41: Arrondis à …
A42: Joueur A | B42: 4.4 | C42: Homme | D42: 131 | E42: 66.7 | F42: =B42*(D42/113)+(E42-68) -> 3.800885 | G42: =ROUND(F42,0) -> 4 | I42: =H42 -> 0
A43: Joueur B | B43: 11.2 | C43: Femme | D43: 129 | E43: 69.1 | F43: =B43*(D43/113)+(E43-68) -> 13.885841 | G43: =ROUND(F43,0) -> 14 | H43: =0.75*(G43-G42) -> 7.5 | I43: =ROUND(H43,0) -> 8
A45: GOLF DE ROQUEBRUNE SUR ARGENS PAR 71
D47: Slope | E47: SSS
B48: REFERENCES PARCOURS | C48: Homme | D48: 144 | E48: 70.9
...
